BEGIN:VCALENDAR
VERSION:2.0
PRODID:-//wp-events-plugin.com//7.2.3.1//EN
TZID:Europe/Berlin
X-WR-TIMEZONE:Europe/Berlin
BEGIN:VEVENT
UID:112@nwvv.de
DTSTART;TZID=Europe/Berlin:20260523T100000
DTEND;TZID=Europe/Berlin:20260523T170000
DTSTAMP:20260402T081916Z
URL:https://nwvv.de/termine/u14-nachwuchscamp-wm-und-trainerweiterbildung-
 lg-nr-6117/
SUMMARY:U14 Nachwuchscamp (w&m) und Trainerweiterbildung (LG Nr. 6117)
DESCRIPTION:Schulzentrum Spalterhals (Halle 1)\nAm Spalterhals\n30890 Barsi
 nghausen
CATEGORIES:Kader,Lehre
END:VEVENT
BEGIN:VTIMEZONE
TZID:Europe/Berlin
X-LIC-LOCATION:Europe/Berlin
BEGIN:DAYLIGHT
DTSTART:20260329T030000
TZOFFSETFROM:+0100
TZOFFSETTO:+0200
TZNAME:CEST
END:DAYLIGHT
END:VTIMEZONE
END:VCALENDAR