BEGIN:VCALENDAR
VERSION:2.0
PRODID:-//wp-events-plugin.com//7.2.3.1//EN
TZID:Europe/Berlin
X-WR-TIMEZONE:Europe/Berlin
BEGIN:VEVENT
UID:106@nwvv.de
DTSTART;TZID=Europe/Berlin;VALUE=DATE:20260517
DTEND;TZID=Europe/Berlin;VALUE=DATE:20260518
DTSTAMP:20260304T083422Z
URL:https://nwvv.de/termine/trainerweiterbildung-zwingende-situationen-im-
 technik-taktik-und-mentaltraining/
SUMMARY:Trainerweiterbildung: "Zwingende" Situationen im Technik-\, Taktik-
  und Mentaltraining
DESCRIPTION:
CATEGORIES:Lehre
LOCATION:https://www.google.de/maps/place/Grundschule+Im+Petzer+Feld/@52.26
 134,9.0350351,17z/data=!3m1!4b1!4m6!3m5!1s0x47ba7a1aad788211:0x26b6547b9c0
 e1dbb!8m2!3d52.26134!4d9.03761!16s%2Fg%2F1tdxz_h9?entry=ttu&g_ep=EgoyMDI2M
 DMwMS4xIKXMDSoASAFQAw%3D%3D
END:VEVENT
BEGIN:VTIMEZONE
TZID:Europe/Berlin
X-LIC-LOCATION:Europe/Berlin
BEGIN:DAYLIGHT
DTSTART:20260329T030000
TZOFFSETFROM:+0100
TZOFFSETTO:+0200
TZNAME:CEST
END:DAYLIGHT
END:VTIMEZONE
END:VCALENDAR