BEGIN:VCALENDAR
VERSION:2.0
PRODID:-//wp-events-plugin.com//7.2.3.1//EN
TZID:Europe/Berlin
X-WR-TIMEZONE:Europe/Berlin
BEGIN:VEVENT
UID:111@nwvv.de
DTSTART;TZID=Europe/Berlin;VALUE=DATE:20260607
DTEND;TZID=Europe/Berlin;VALUE=DATE:20260608
DTSTAMP:20260313T075515Z
URL:https://nwvv.de/termine/trainerweiterbildung-wahrnehmen-kommt-vor-anti
 zipieren/
SUMMARY:Trainerweiterbildung: Wahrnehmen kommt vor Antizipieren
DESCRIPTION:
CATEGORIES:Lehre
LOCATION:https://www.google.de/maps/place/TuS+Zeven+Handball/@53.2983141,9.
 2596684,17z/data=!4m10!1m2!2m1!1sSporthalle+Zeven!3m6!1s0x47b113dfb7034859
 :0x21c8de488778088e!8m2!3d53.29842!4d9.26461!15sChBTcG9ydGhhbGxlIFpldmVukg
 ENYXRobGV0aWNfY2x1YuABAA!16s%2Fg%2F1td5q9tz?entry=ttu&g_ep=EgoyMDI2MDMxMC4
 wIKXMDSoASAFQAw%3D%3D
END:VEVENT
BEGIN:VTIMEZONE
TZID:Europe/Berlin
X-LIC-LOCATION:Europe/Berlin
BEGIN:DAYLIGHT
DTSTART:20260329T030000
TZOFFSETFROM:+0100
TZOFFSETTO:+0200
TZNAME:CEST
END:DAYLIGHT
END:VTIMEZONE
END:VCALENDAR