BEGIN:VCALENDAR
VERSION:2.0
PRODID:-//wp-events-plugin.com//7.2.3.1//EN
TZID:Europe/Berlin
X-WR-TIMEZONE:Europe/Berlin
BEGIN:VEVENT
UID:105@nwvv.de
DTSTART;TZID=Europe/Berlin;VALUE=DATE:20260822
DTEND;TZID=Europe/Berlin;VALUE=DATE:20260823
DTSTAMP:20260219T151027Z
URL:https://nwvv.de/termine/trainerweiterbildung-sportpsychologie-mentale-
 saisonvorbereitung-und-coaching-am-spieltag/
SUMMARY:Trainerweiterbildung Sportpsychologie: (Mentale) Saisonvorbereitung
  und Coaching am Spieltag
DESCRIPTION:
CATEGORIES:Lehre
LOCATION:https://www.google.de/maps/place/ASC+G%C3%B6ttingen+von+1846+e.V./
 @51.52145,9.9440451,17z/data=!3m2!4b1!5s0x47a4d49b37c38b1b:0xa9c7c60bc61b3
 11e!4m6!3m5!1s0x47a4d49b49c7b0b7:0x3ad2512b342b575b!8m2!3d51.52145!4d9.946
 62!16s%2Fg%2F1tcydgt4?entry=ttu&g_ep=EgoyMDI2MDIxNy4wIKXMDSoASAFQAw%3D%3D
END:VEVENT
BEGIN:VTIMEZONE
TZID:Europe/Berlin
X-LIC-LOCATION:Europe/Berlin
BEGIN:DAYLIGHT
DTSTART:20260329T030000
TZOFFSETFROM:+0100
TZOFFSETTO:+0200
TZNAME:CEST
END:DAYLIGHT
END:VTIMEZONE
END:VCALENDAR