BEGIN:VCALENDAR
VERSION:2.0
PRODID:-//wp-events-plugin.com//7.2.3.1//EN
TZID:Europe/Berlin
X-WR-TIMEZONE:Europe/Berlin
BEGIN:VEVENT
UID:109@nwvv.de
DTSTART;TZID=Europe/Berlin;VALUE=DATE:20260627
DTEND;TZID=Europe/Berlin;VALUE=DATE:20260628
DTSTAMP:20260313T072918Z
URL:https://nwvv.de/termine/trainerweiterbildung-spielerische-technikvermi
 ttlung-im-kinder-volleyball-6-10-jahre/
SUMMARY:Trainerweiterbildung: Spielerische Technikvermittlung im Kinder-Vol
 leyball (6–10 Jahre)
DESCRIPTION:
CATEGORIES:Lehre
LOCATION:https://www.google.de/maps/place/Sporthalle+1+-+Vechelde/@52.25856
 78,10.3669431,17z/data=!4m10!1m2!2m1!1sSporthalle+I+Vechelde!3m6!1s0x47aff
 86dfcc36633:0x3bece7fddae0231!8m2!3d52.2584973!4d10.3701593!15sChVTcG9ydGh
 hbGxlIEkgVmVjaGVsZGWSAQ5zcG9ydHNfY29tcGxleOABAA!16s%2Fg%2F11g80qmzb9?entry
 =ttu&g_ep=EgoyMDI2MDMxMC4wIKXMDSoASAFQAw%3D%3D
END:VEVENT
BEGIN:VTIMEZONE
TZID:Europe/Berlin
X-LIC-LOCATION:Europe/Berlin
BEGIN:DAYLIGHT
DTSTART:20260329T030000
TZOFFSETFROM:+0100
TZOFFSETTO:+0200
TZNAME:CEST
END:DAYLIGHT
END:VTIMEZONE
END:VCALENDAR