BEGIN:VCALENDAR
VERSION:2.0
PRODID:-//wp-events-plugin.com//7.2.3.1//EN
TZID:Europe/Berlin
X-WR-TIMEZONE:Europe/Berlin
BEGIN:VEVENT
UID:110@nwvv.de
DTSTART;TZID=Europe/Berlin;VALUE=DATE:20260620
DTEND;TZID=Europe/Berlin;VALUE=DATE:20260621
DTSTAMP:20260313T074821Z
URL:https://nwvv.de/termine/trainerweiterbildung-handlungsketten-des-zuspi
 els/
SUMMARY:Trainerweiterbildung: Handlungsketten des Zuspiels
DESCRIPTION:
CATEGORIES:Lehre
LOCATION:https://www.google.de/maps/place/Sporthalle+Schulzentrum+Eversten/
 @53.1380976,8.1709984,17z/data=!3m1!4b1!4m6!3m5!1s0x47b6df59292fc915:0xbd6
 4f61108d5a0e4!8m2!3d53.1380976!4d8.1735733!16s%2Fg%2F11l2lq0cl7?entry=ttu&
 g_ep=EgoyMDI2MDMxMC4wIKXMDSoASAFQAw%3D%3D
END:VEVENT
BEGIN:VTIMEZONE
TZID:Europe/Berlin
X-LIC-LOCATION:Europe/Berlin
BEGIN:DAYLIGHT
DTSTART:20260329T030000
TZOFFSETFROM:+0100
TZOFFSETTO:+0200
TZNAME:CEST
END:DAYLIGHT
END:VTIMEZONE
END:VCALENDAR