BEGIN:VCALENDAR
VERSION:2.0
PRODID:-//wp-events-plugin.com//7.2.3.1//EN
TZID:Europe/Berlin
X-WR-TIMEZONE:Europe/Berlin
BEGIN:VEVENT
UID:103@nwvv.de
DTSTART;TZID=Europe/Berlin;VALUE=DATE:20260621
DTEND;TZID=Europe/Berlin;VALUE=DATE:20260622
DTSTAMP:20260219T150010Z
URL:https://nwvv.de/termine/trainerweiterbildung-fehlererkennung-korrektur
 -und-verbesserung/
SUMMARY:Trainerweiterbildung: Fehlererkennung\, Korrektur und Verbesserung
DESCRIPTION:
CATEGORIES:Lehre
LOCATION:https://www.google.de/maps/place/Berufsbildende+Schulen+II+Emden/@
 53.3758735,7.1958995,17z/data=!3m1!4b1!4m6!3m5!1s0x47b639431acee345:0xff88
 6f7a220216f5!8m2!3d53.3758735!4d7.1984744!16s%2Fg%2F11rcwd3t6g?entry=ttu&g
 _ep=EgoyMDI2MDIxNy4wIKXMDSoASAFQAw%3D%3D
END:VEVENT
BEGIN:VTIMEZONE
TZID:Europe/Berlin
X-LIC-LOCATION:Europe/Berlin
BEGIN:DAYLIGHT
DTSTART:20260329T030000
TZOFFSETFROM:+0100
TZOFFSETTO:+0200
TZNAME:CEST
END:DAYLIGHT
END:VTIMEZONE
END:VCALENDAR