BEGIN:VCALENDAR
VERSION:2.0
PRODID:-//wp-events-plugin.com//7.2.3.1//EN
TZID:Europe/Berlin
X-WR-TIMEZONE:Europe/Berlin
BEGIN:VEVENT
UID:104@nwvv.de
DTSTART;TZID=Europe/Berlin:20260704T130000
DTEND;TZID=Europe/Berlin:20260705T153000
DTSTAMP:20260219T150239Z
URL:https://nwvv.de/termine/trainerweiterbildung-beachvolleyball/
SUMMARY:Trainerweiterbildung Beachvolleyball
DESCRIPTION:
CATEGORIES:Lehre
LOCATION:https://www.google.de/maps/place/Wiedersdorfer+Str.+30,+39126+Magd
 eburg/@52.2205271,11.6490298,15z/data=!4m6!3m5!1s0x47af5c18814f0723:0x2ca3
 7f920ed3eddb!8m2!3d52.2193153!4d11.6590062!16s%2Fg%2F11lszx2hy7?entry=ttu&
 g_ep=EgoyMDI2MDIxNy4wIKXMDSoASAFQAw%3D%3D
END:VEVENT
BEGIN:VTIMEZONE
TZID:Europe/Berlin
X-LIC-LOCATION:Europe/Berlin
BEGIN:DAYLIGHT
DTSTART:20260329T030000
TZOFFSETFROM:+0100
TZOFFSETTO:+0200
TZNAME:CEST
END:DAYLIGHT
END:VTIMEZONE
END:VCALENDAR