BEGIN:VCALENDAR
VERSION:2.0
PRODID:-//wp-events-plugin.com//7.2.3.1//EN
TZID:Europe/Berlin
X-WR-TIMEZONE:Europe/Berlin
BEGIN:VEVENT
UID:102@nwvv.de
DTSTART;TZID=Europe/Berlin;VALUE=DATE:20260607
DTEND;TZID=Europe/Berlin;VALUE=DATE:20260608
DTSTAMP:20260219T145248Z
URL:https://nwvv.de/termine/trainerweiterbildung-aufwaermen-nicht-nur-als-
 laestige-pflichtuebung/
SUMMARY:Trainerweiterbildung: Aufwärmen nicht nur als lästige Pflichtübu
 ng
DESCRIPTION:
CATEGORIES:Lehre
LOCATION:https://www.google.de/maps/place/Copernicus-Gymnasium+L%C3%B6ninge
 n/@52.7413693,7.756706,17z/data=!3m1!4b1!4m6!3m5!1s0x47b772510919d90d:0xc8
 caf9b3643113b4!8m2!3d52.7413693!4d7.7592809!16s%2Fg%2F11b6s58g9m?entry=ttu
 &g_ep=EgoyMDI2MDIxNy4wIKXMDSoASAFQAw%3D%3D
END:VEVENT
BEGIN:VTIMEZONE
TZID:Europe/Berlin
X-LIC-LOCATION:Europe/Berlin
BEGIN:DAYLIGHT
DTSTART:20260329T030000
TZOFFSETFROM:+0100
TZOFFSETTO:+0200
TZNAME:CEST
END:DAYLIGHT
END:VTIMEZONE
END:VCALENDAR