BEGIN:VCALENDAR
VERSION:2.0
PRODID:-//wp-events-plugin.com//7.2.3.1//EN
TZID:Europe/Berlin
X-WR-TIMEZONE:Europe/Berlin
BEGIN:VEVENT
UID:14@nwvv.de
DTSTART;TZID=Europe/Berlin;VALUE=DATE:20260425
DTEND;TZID=Europe/Berlin;VALUE=DATE:20260427
DTSTAMP:20260112T094414Z
URL:https://nwvv.de/termine/nwdm-u13-mw/
SUMMARY:NWDM U13 m&w
DESCRIPTION:Ausrichter weiblich: FC 47 Leschede https://www.fc-leschede.de
 /pages/volleyball/jugendvolleyball.php\n\nAusrichter männlich: TV Jahn Wo
 lfsburg https://www.tvjahn-wolfsburg.de/index.php/abteilungen/mannschafts
 sport/volleyball
CATEGORIES:Jugendspielbetrieb,Spielbetrieb
END:VEVENT
BEGIN:VTIMEZONE
TZID:Europe/Berlin
X-LIC-LOCATION:Europe/Berlin
BEGIN:DAYLIGHT
DTSTART:20260329T030000
TZOFFSETFROM:+0100
TZOFFSETTO:+0200
TZNAME:CEST
END:DAYLIGHT
END:VTIMEZONE
END:VCALENDAR