BEGIN:VCALENDAR
VERSION:2.0
PRODID:-//wp-events-plugin.com//7.2.3.1//EN
TZID:Europe/Berlin
X-WR-TIMEZONE:Europe/Berlin
BEGIN:VEVENT
UID:60@nwvv.de
DTSTART;TZID=Europe/Berlin;VALUE=DATE:20260925
DTEND;TZID=Europe/Berlin;VALUE=DATE:20260928
DTSTAMP:20260116T090056Z
URL:https://nwvv.de/termine/kadersichtung-13-14leistungslehrgang-in-wester
 stede/
SUMMARY:Kadersichtung 13/14Leistungslehrgang in Westerstede
DESCRIPTION:
CATEGORIES:Kader
END:VEVENT
BEGIN:VTIMEZONE
TZID:Europe/Berlin
X-LIC-LOCATION:Europe/Berlin
BEGIN:DAYLIGHT
DTSTART:20260329T030000
TZOFFSETFROM:+0100
TZOFFSETTO:+0200
TZNAME:CEST
END:DAYLIGHT
END:VTIMEZONE
END:VCALENDAR