BEGIN:VCALENDAR
VERSION:2.0
PRODID:-//wp-events-plugin.com//7.2.3.1//EN
TZID:Europe/Berlin
X-WR-TIMEZONE:Europe/Berlin
BEGIN:VEVENT
UID:69@nwvv.de
DTSTART;TZID=Europe/Berlin;VALUE=DATE:20261204
DTEND;TZID=Europe/Berlin;VALUE=DATE:20261207
DTSTAMP:20260116T120420Z
URL:https://nwvv.de/termine/kadersichtung-12-13-14-lehtrgang-mit-punktspie
 len-in-ll/
SUMMARY:Kadersichtung 12/13/14  Lehtrgang mit Punktspielen in LL
DESCRIPTION:
CATEGORIES:Kader
END:VEVENT
BEGIN:VTIMEZONE
TZID:Europe/Berlin
X-LIC-LOCATION:Europe/Berlin
BEGIN:STANDARD
DTSTART:20261025T020000
TZOFFSETFROM:+0200
TZOFFSETTO:+0100
TZNAME:CET
END:STANDARD
END:VTIMEZONE
END:VCALENDAR