BEGIN:VCALENDAR
VERSION:2.0
PRODID:-//wp-events-plugin.com//7.2.3.1//EN
TZID:Europe/Berlin
X-WR-TIMEZONE:Europe/Berlin
BEGIN:VEVENT
UID:41@nwvv.de
DTSTART;TZID=Europe/Berlin;VALUE=DATE:20260525
DTEND;TZID=Europe/Berlin;VALUE=DATE:20260529
DTSTAMP:20260116T082555Z
URL:https://nwvv.de/termine/kader-11-12-m-w-leistungslehrgang-bupo-vorbere
 itung-in-wst/
SUMMARY:Kader 11/12 m/w Leistungslehrgang/Bupo Vorbereitung in WST
DESCRIPTION:
CATEGORIES:Kader
END:VEVENT
BEGIN:VTIMEZONE
TZID:Europe/Berlin
X-LIC-LOCATION:Europe/Berlin
BEGIN:DAYLIGHT
DTSTART:20260329T030000
TZOFFSETFROM:+0100
TZOFFSETTO:+0200
TZNAME:CEST
END:DAYLIGHT
END:VTIMEZONE
END:VCALENDAR