BEGIN:VCALENDAR
VERSION:2.0
PRODID:-//wp-events-plugin.com//7.2.3.1//EN
TZID:Europe/Berlin
X-WR-TIMEZONE:Europe/Berlin
BEGIN:VEVENT
UID:42@nwvv.de
DTSTART;TZID=Europe/Berlin;VALUE=DATE:20260528
DTEND;TZID=Europe/Berlin;VALUE=DATE:20260601
DTSTAMP:20260402T104942Z
URL:https://nwvv.de/termine/kader-11-12-m-w-bundespokal-u16-in/
SUMMARY:Kader 11/12 m/w  Bundespokal U16 in Dresden
DESCRIPTION:
CATEGORIES:Kader
LOCATION:https://www.google.de/maps/@52.3546771,9.7243914,13z?entry=ttu&g_e
 p=EgoyMDI2MDMzMC4wIKXMDSoASAFQAw%3D%3D
END:VEVENT
BEGIN:VTIMEZONE
TZID:Europe/Berlin
X-LIC-LOCATION:Europe/Berlin
BEGIN:DAYLIGHT
DTSTART:20260329T030000
TZOFFSETFROM:+0100
TZOFFSETTO:+0200
TZNAME:CEST
END:DAYLIGHT
END:VTIMEZONE
END:VCALENDAR