BEGIN:VCALENDAR
VERSION:2.0
PRODID:-//wp-events-plugin.com//7.2.3.1//EN
TZID:Europe/Berlin
X-WR-TIMEZONE:Europe/Berlin
BEGIN:VEVENT
UID:54@nwvv.de
DTSTART;TZID=Europe/Berlin;VALUE=DATE:20260803
DTEND;TZID=Europe/Berlin;VALUE=DATE:20260806
DTSTAMP:20260116T085412Z
URL:https://nwvv.de/termine/kader-09-10-11w-m-leistungslehrgang-in-wst/
SUMMARY:Kader 09/10/11w/m Leistungslehrgang in WST
DESCRIPTION:
CATEGORIES:Kader
END:VEVENT
BEGIN:VTIMEZONE
TZID:Europe/Berlin
X-LIC-LOCATION:Europe/Berlin
BEGIN:DAYLIGHT
DTSTART:20260329T030000
TZOFFSETFROM:+0100
TZOFFSETTO:+0200
TZNAME:CEST
END:DAYLIGHT
END:VTIMEZONE
END:VCALENDAR