BEGIN:VCALENDAR
VERSION:2.0
PRODID:-//wp-events-plugin.com//7.2.3.1//EN
TZID:Europe/Berlin
X-WR-TIMEZONE:Europe/Berlin
BEGIN:VEVENT
UID:44@nwvv.de
DTSTART;TZID=Europe/Berlin;VALUE=DATE:20260619
DTEND;TZID=Europe/Berlin;VALUE=DATE:20260622
DTSTAMP:20260116T083759Z
URL:https://nwvv.de/termine/junior-coach-ausbildung/
SUMMARY:Junior-Coach Ausbildung
DESCRIPTION:
CATEGORIES:Lehre
LOCATION:https://www.ntbwelt.de/der-ntb/einrichtungen/landesturnschule-mell
 e.html
END:VEVENT
BEGIN:VTIMEZONE
TZID:Europe/Berlin
X-LIC-LOCATION:Europe/Berlin
BEGIN:DAYLIGHT
DTSTART:20260329T030000
TZOFFSETFROM:+0100
TZOFFSETTO:+0200
TZNAME:CEST
END:DAYLIGHT
END:VTIMEZONE
END:VCALENDAR