BEGIN:VCALENDAR
VERSION:2.0
PRODID:-//wp-events-plugin.com//7.2.3.1//EN
TZID:Europe/Berlin
X-WR-TIMEZONE:Europe/Berlin
BEGIN:VEVENT
UID:107@nwvv.de
DTSTART;TZID=Europe/Berlin;VALUE=DATE:20260821
DTEND;TZID=Europe/Berlin;VALUE=DATE:20260824
DTSTAMP:20260304T085210Z
URL:https://nwvv.de/termine/junior-coach-ausbildung-braunschweig/
SUMMARY:Junior Coach Ausbildung Braunschweig
DESCRIPTION:
CATEGORIES:Lehre
LOCATION:https://www.google.de/maps/place/DJH+Jugendherberge+Braunschweig/@
 52.2704561,10.5204667,16z/data=!3m1!4b1!4m6!3m5!1s0x47aff67939dad605:0x171
 6723578a59636!8m2!3d52.2704561!4d10.5230416!16s%2Fg%2F1v16pbnl?entry=ttu&g
 _ep=EgoyMDI2MDMwMS4xIKXMDSoASAFQAw%3D%3D
END:VEVENT
BEGIN:VTIMEZONE
TZID:Europe/Berlin
X-LIC-LOCATION:Europe/Berlin
BEGIN:DAYLIGHT
DTSTART:20260329T030000
TZOFFSETFROM:+0100
TZOFFSETTO:+0200
TZNAME:CEST
END:DAYLIGHT
END:VTIMEZONE
END:VCALENDAR