BEGIN:VCALENDAR
VERSION:2.0
PRODID:-//wp-events-plugin.com//7.2.3.1//EN
TZID:Europe/Berlin
X-WR-TIMEZONE:Europe/Berlin
BEGIN:VEVENT
UID:67@nwvv.de
DTSTART;TZID=Europe/Berlin;VALUE=DATE:20261113
DTEND;TZID=Europe/Berlin;VALUE=DATE:20261116
DTSTAMP:20260116T120216Z
URL:https://nwvv.de/termine/dvv-mitgliederversammlung-in-magdeburg/
SUMMARY:DVV-Mitgliederversammlung in Magdeburg
DESCRIPTION:
CATEGORIES:Geschäftsstelle
END:VEVENT
BEGIN:VTIMEZONE
TZID:Europe/Berlin
X-LIC-LOCATION:Europe/Berlin
BEGIN:STANDARD
DTSTART:20261025T020000
TZOFFSETFROM:+0200
TZOFFSETTO:+0100
TZNAME:CET
END:STANDARD
END:VTIMEZONE
END:VCALENDAR