BEGIN:VCALENDAR
VERSION:2.0
PRODID:-//wp-events-plugin.com//7.2.3.1//EN
TZID:Europe/Berlin
X-WR-TIMEZONE:Europe/Berlin
BEGIN:VEVENT
UID:95@nwvv.de
DTSTART;TZID=Europe/Berlin:20261126T180000
DTEND;TZID=Europe/Berlin:20261126T210000
DTSTAMP:20260219T151400Z
URL:https://nwvv.de/termine/digitalisierung-ki-im-sportverein-einsteigerin
 nen-workshop-2/
SUMMARY:Trainerweiterbildung: Digitalisierung & KI im Sportverein – Einst
 eiger:innen-Workshop
DESCRIPTION:
CATEGORIES:Lehre
END:VEVENT
BEGIN:VTIMEZONE
TZID:Europe/Berlin
X-LIC-LOCATION:Europe/Berlin
BEGIN:STANDARD
DTSTART:20261025T020000
TZOFFSETFROM:+0200
TZOFFSETTO:+0100
TZNAME:CET
END:STANDARD
END:VTIMEZONE
END:VCALENDAR