BEGIN:VCALENDAR
VERSION:2.0
PRODID:-//wp-events-plugin.com//7.2.3.1//EN
TZID:Europe/Berlin
X-WR-TIMEZONE:Europe/Berlin
BEGIN:VEVENT
UID:100@nwvv.de
DTSTART;TZID=Europe/Berlin;VALUE=DATE:20260517
DTEND;TZID=Europe/Berlin;VALUE=DATE:20260518
DTSTAMP:20260219T131347Z
URL:https://nwvv.de/termine/betrachtung-ausgewaehlter-techniken-im-leitung
 sorientierten-volleyball/
SUMMARY:Trainerweiterbildung: Betrachtung ausgewählter Techniken im leitun
 gsorientierten Volleyball
DESCRIPTION:
CATEGORIES:Lehre
LOCATION:https://www.google.de/maps/place/Berufsbildende+Schulen+II+Emden/@
 53.3359202,7.0421058,10z/data=!4m6!3m5!1s0x47b639431acee345:0xff886f7a2202
 16f5!8m2!3d53.3758735!4d7.1984744!16sg11rcwd3t6g?entry=ttu&g_ep=EgoyMDI2MD
 IxNy4wIKXMDSoASAFQAw
END:VEVENT
BEGIN:VTIMEZONE
TZID:Europe/Berlin
X-LIC-LOCATION:Europe/Berlin
BEGIN:DAYLIGHT
DTSTART:20260329T030000
TZOFFSETFROM:+0100
TZOFFSETTO:+0200
TZNAME:CEST
END:DAYLIGHT
END:VTIMEZONE
END:VCALENDAR