BEGIN:VCALENDAR
VERSION:2.0
PRODID:-//wp-events-plugin.com//7.2.3.1//EN
TZID:Europe/Berlin
X-WR-TIMEZONE:Europe/Berlin
BEGIN:VEVENT
UID:51@nwvv.de
DTSTART;TZID=Europe/Berlin;VALUE=DATE:20260720
DTEND;TZID=Europe/Berlin;VALUE=DATE:20260724
DTSTAMP:20260402T105146Z
URL:https://nwvv.de/termine/beachkader-u15-u16-m-w-leistungslehrgang-in-we
 sterstede/
SUMMARY:Beachkader U15/U17 m/w Leistungslehrgang in Westerstede
DESCRIPTION:
CATEGORIES:Kader
LOCATION:https://www.google.de/maps/place/26655+Westerstede/@53.2584923,7.7
 629132,11z/data=!3m1!4b1!4m6!3m5!1s0x47b6fadfc3304ead:0x426cf776300b4c0!8m
 2!3d53.2577806!4d7.9222968!16zL20vMGMwX25z?entry=ttu&g_ep=EgoyMDI2MDMzMC4w
 IKXMDSoASAFQAw%3D%3D
END:VEVENT
BEGIN:VTIMEZONE
TZID:Europe/Berlin
X-LIC-LOCATION:Europe/Berlin
BEGIN:DAYLIGHT
DTSTART:20260329T030000
TZOFFSETFROM:+0100
TZOFFSETTO:+0200
TZNAME:CEST
END:DAYLIGHT
END:VTIMEZONE
END:VCALENDAR