BEGIN:VCALENDAR
VERSION:2.0
PRODID:-//wp-events-plugin.com//7.2.3.1//EN
TZID:Europe/Berlin
X-WR-TIMEZONE:Europe/Berlin
BEGIN:VEVENT
UID:52@nwvv.de
DTSTART;TZID=Europe/Berlin;VALUE=DATE:20260723
DTEND;TZID=Europe/Berlin;VALUE=DATE:20260727
DTSTAMP:20260402T105456Z
URL:https://nwvv.de/termine/beachkader-u15-u16-m-w-beach-bupo-u15-16-in-be
 rlin/
SUMMARY:Beachkader U15/U17 m/w Beach Bupo U15/17 in Velten
DESCRIPTION:
CATEGORIES:Kader
LOCATION:https://www.google.de/maps/place/Velten/@52.6885649,13.1592357,13z
 /data=!3m1!4b1!4m6!3m5!1s0x47a9004d108d2ce9:0x511109fdf06475d8!8m2!3d52.68
 55564!4d13.1828063!16zL20vMGR3Zmd2?entry=ttu&g_ep=EgoyMDI2MDMzMC4wIKXMDSoA
 SAFQAw%3D%3D
END:VEVENT
BEGIN:VTIMEZONE
TZID:Europe/Berlin
X-LIC-LOCATION:Europe/Berlin
BEGIN:DAYLIGHT
DTSTART:20260329T030000
TZOFFSETFROM:+0100
TZOFFSETTO:+0200
TZNAME:CEST
END:DAYLIGHT
END:VTIMEZONE
END:VCALENDAR