BEGIN:VCALENDAR
VERSION:2.0
PRODID:-//wp-events-plugin.com//7.2.3.1//EN
TZID:Europe/Berlin
X-WR-TIMEZONE:Europe/Berlin
BEGIN:VEVENT
UID:78@nwvv.de
DTSTART;TZID=Europe/Berlin;VALUE=DATE:20260606
DTEND;TZID=Europe/Berlin;VALUE=DATE:20260817
DTSTAMP:20260219T145156Z
URL:https://nwvv.de/termine/b-trainer-leistungssport-ausbildungsreihe/
SUMMARY:B-Trainerausbildung
DESCRIPTION:
CATEGORIES:Lehre
LOCATION:http://Rotenburg%20(Wümme)
END:VEVENT
BEGIN:VTIMEZONE
TZID:Europe/Berlin
X-LIC-LOCATION:Europe/Berlin
BEGIN:DAYLIGHT
DTSTART:20260329T030000
TZOFFSETFROM:+0100
TZOFFSETTO:+0200
TZNAME:CEST
END:DAYLIGHT
END:VTIMEZONE
END:VCALENDAR