BEGIN:VCALENDAR
VERSION:2.0
PRODID:-//wp-events-plugin.com//7.2.3.1//EN
TZID:Europe/Berlin
X-WR-TIMEZONE:Europe/Berlin
BEGIN:VEVENT
UID:70@nwvv.de
DTSTART;TZID=Europe/Berlin;VALUE=DATE:20260422
DTEND;TZID=Europe/Berlin;VALUE=DATE:20260531
DTSTAMP:20260219T145008Z
URL:https://nwvv.de/termine/anmeldungen-c-trainer-grundlehrgang-hybrid/
SUMMARY:C-Trainer Grundlehrgang hybrid
DESCRIPTION:
CATEGORIES:Lehre
LOCATION:https://nwvv.sams-server.de/popup/location/locationDetails.xhtml?l
 ocationId=1072794&hideHistoryBackButton=true
END:VEVENT
BEGIN:VTIMEZONE
TZID:Europe/Berlin
X-LIC-LOCATION:Europe/Berlin
BEGIN:DAYLIGHT
DTSTART:20260329T030000
TZOFFSETFROM:+0100
TZOFFSETTO:+0200
TZNAME:CEST
END:DAYLIGHT
END:VTIMEZONE
END:VCALENDAR